BEGIN:VCALENDAR
VERSION:2.0
PRODID:-//Phyl&#039;s Academy Preparatory School - ECPv6.15.12.2//NONSGML v1.0//EN
CALSCALE:GREGORIAN
METHOD:PUBLISH
X-ORIGINAL-URL:https://phylsprep.com
X-WR-CALDESC:Events for Phyl&#039;s Academy Preparatory School
REFRESH-INTERVAL;VALUE=DURATION:PT1H
X-Robots-Tag:noindex
X-PUBLISHED-TTL:PT1H
BEGIN:VTIMEZONE
TZID:America/New_York
BEGIN:DAYLIGHT
TZOFFSETFROM:-0500
TZOFFSETTO:-0400
TZNAME:EDT
DTSTART:20240310T070000
END:DAYLIGHT
BEGIN:STANDARD
TZOFFSETFROM:-0400
TZOFFSETTO:-0500
TZNAME:EST
DTSTART:20241103T060000
END:STANDARD
BEGIN:DAYLIGHT
TZOFFSETFROM:-0500
TZOFFSETTO:-0400
TZNAME:EDT
DTSTART:20250309T070000
END:DAYLIGHT
BEGIN:STANDARD
TZOFFSETFROM:-0400
TZOFFSETTO:-0500
TZNAME:EST
DTSTART:20251102T060000
END:STANDARD
BEGIN:DAYLIGHT
TZOFFSETFROM:-0500
TZOFFSETTO:-0400
TZNAME:EDT
DTSTART:20260308T070000
END:DAYLIGHT
BEGIN:STANDARD
TZOFFSETFROM:-0400
TZOFFSETTO:-0500
TZNAME:EST
DTSTART:20261101T060000
END:STANDARD
END:VTIMEZONE
BEGIN:VEVENT
DTSTART;VALUE=DATE:20250331
DTEND;VALUE=DATE:20250405
DTSTAMP:20260423T061605
CREATED:20250214T080747Z
LAST-MODIFIED:20250214T080747Z
UID:2592-1743379200-1743811199@phylsprep.com
SUMMARY:IOWA EXAM BEGINS (K-8)
DESCRIPTION:
URL:https://phylsprep.com/event/iowa-exam-begins-k-8/
END:VEVENT
BEGIN:VEVENT
DTSTART;VALUE=DATE:20250417
DTEND;VALUE=DATE:20250418
DTSTAMP:20260423T061605
CREATED:20250214T081044Z
LAST-MODIFIED:20250214T081044Z
UID:2594-1744848000-1744934399@phylsprep.com
SUMMARY:FIELD DAY
DESCRIPTION:
URL:https://phylsprep.com/event/field-day-2/
CATEGORIES:Elementary School,Preschool,Upper School
END:VEVENT
BEGIN:VEVENT
DTSTART;VALUE=DATE:20250418
DTEND;VALUE=DATE:20250419
DTSTAMP:20260423T061605
CREATED:20250214T081146Z
LAST-MODIFIED:20250214T081146Z
UID:2596-1744934400-1745020799@phylsprep.com
SUMMARY:GOOD FRIDAY (SCHOOL CLOSED)
DESCRIPTION:
URL:https://phylsprep.com/event/good-friday-school-closed/
END:VEVENT
BEGIN:VEVENT
DTSTART;VALUE=DATE:20250421
DTEND;VALUE=DATE:20250422
DTSTAMP:20260423T061605
CREATED:20250214T082825Z
LAST-MODIFIED:20250214T082825Z
UID:2629-1745193600-1745279999@phylsprep.com
SUMMARY:EASTER MONDAY (SCHOOL CLOSED TWD)
DESCRIPTION:
URL:https://phylsprep.com/event/easter-monday-school-closed-twd/
CATEGORIES:Preschool
END:VEVENT
BEGIN:VEVENT
DTSTART;VALUE=DATE:20250421
DTEND;VALUE=DATE:20250426
DTSTAMP:20260423T061605
CREATED:20250214T081310Z
LAST-MODIFIED:20250214T083434Z
UID:2598-1745193600-1745625599@phylsprep.com
SUMMARY:SPRING BREAK (K-12)
DESCRIPTION:
URL:https://phylsprep.com/event/spring-break-school-closed/
CATEGORIES:Elementary School,Preschool,Upper School
END:VEVENT
BEGIN:VEVENT
DTSTART;TZID=America/New_York:20250425T180000
DTEND;TZID=America/New_York:20250425T203000
DTSTAMP:20260423T061605
CREATED:20250214T082921Z
LAST-MODIFIED:20250214T082921Z
UID:2631-1745604000-1745613000@phylsprep.com
SUMMARY:PRESCHOOL SNEAKER BALL!
DESCRIPTION:
URL:https://phylsprep.com/event/preschool-sneaker-ball/
END:VEVENT
END:VCALENDAR