BEGIN:VCALENDAR
VERSION:2.0
PRODID:-//Phyl&#039;s Academy Preparatory School - ECPv6.15.12.2//NONSGML v1.0//EN
CALSCALE:GREGORIAN
METHOD:PUBLISH
X-ORIGINAL-URL:https://phylsprep.com
X-WR-CALDESC:Events for Phyl&#039;s Academy Preparatory School
REFRESH-INTERVAL;VALUE=DURATION:PT1H
X-Robots-Tag:noindex
X-PUBLISHED-TTL:PT1H
BEGIN:VTIMEZONE
TZID:America/New_York
BEGIN:DAYLIGHT
TZOFFSETFROM:-0500
TZOFFSETTO:-0400
TZNAME:EDT
DTSTART:20240310T070000
END:DAYLIGHT
BEGIN:STANDARD
TZOFFSETFROM:-0400
TZOFFSETTO:-0500
TZNAME:EST
DTSTART:20241103T060000
END:STANDARD
BEGIN:DAYLIGHT
TZOFFSETFROM:-0500
TZOFFSETTO:-0400
TZNAME:EDT
DTSTART:20250309T070000
END:DAYLIGHT
BEGIN:STANDARD
TZOFFSETFROM:-0400
TZOFFSETTO:-0500
TZNAME:EST
DTSTART:20251102T060000
END:STANDARD
BEGIN:DAYLIGHT
TZOFFSETFROM:-0500
TZOFFSETTO:-0400
TZNAME:EDT
DTSTART:20260308T070000
END:DAYLIGHT
BEGIN:STANDARD
TZOFFSETFROM:-0400
TZOFFSETTO:-0500
TZNAME:EST
DTSTART:20261101T060000
END:STANDARD
END:VTIMEZONE
BEGIN:VEVENT
DTSTART;VALUE=DATE:20250306
DTEND;VALUE=DATE:20250307
DTSTAMP:20260425T063548
CREATED:20250214T080045Z
LAST-MODIFIED:20250214T080045Z
UID:2584-1741219200-1741305599@phylsprep.com
SUMMARY:Taste of a Nation
DESCRIPTION:
URL:https://phylsprep.com/event/taste-of-a-nation/
CATEGORIES:Elementary School,Upper School
END:VEVENT
BEGIN:VEVENT
DTSTART;VALUE=DATE:20250312
DTEND;VALUE=DATE:20250313
DTSTAMP:20260425T063548
CREATED:20250214T080132Z
LAST-MODIFIED:20250214T080132Z
UID:2586-1741737600-1741823999@phylsprep.com
SUMMARY:PSAT (GRADES 8&9)
DESCRIPTION:
URL:https://phylsprep.com/event/psat-grades-89/
CATEGORIES:Upper School
END:VEVENT
BEGIN:VEVENT
DTSTART;VALUE=DATE:20250326
DTEND;VALUE=DATE:20250327
DTSTAMP:20260425T063548
CREATED:20250214T080224Z
LAST-MODIFIED:20250214T080224Z
UID:2588-1742947200-1743033599@phylsprep.com
SUMMARY:SAT EXAM (GRADES 11&12)
DESCRIPTION:
URL:https://phylsprep.com/event/sat-exam-grades-1112/
CATEGORIES:Upper School
END:VEVENT
BEGIN:VEVENT
DTSTART;VALUE=DATE:20250328
DTEND;VALUE=DATE:20250329
DTSTAMP:20260425T063548
CREATED:20250214T080338Z
LAST-MODIFIED:20250214T080338Z
UID:2590-1743120000-1743206399@phylsprep.com
SUMMARY:STORYBOOK PARADE
DESCRIPTION:
URL:https://phylsprep.com/event/storybook-parade-2/
CATEGORIES:Elementary School,Preschool,Upper School
END:VEVENT
BEGIN:VEVENT
DTSTART;VALUE=DATE:20250331
DTEND;VALUE=DATE:20250405
DTSTAMP:20260425T063548
CREATED:20250214T080747Z
LAST-MODIFIED:20250214T080747Z
UID:2592-1743379200-1743811199@phylsprep.com
SUMMARY:IOWA EXAM BEGINS (K-8)
DESCRIPTION:
URL:https://phylsprep.com/event/iowa-exam-begins-k-8/
END:VEVENT
END:VCALENDAR