BEGIN:VCALENDAR
VERSION:2.0
PRODID:-//Phyl&#039;s Academy Preparatory School - ECPv6.15.12.2//NONSGML v1.0//EN
CALSCALE:GREGORIAN
METHOD:PUBLISH
X-ORIGINAL-URL:https://phylsprep.com
X-WR-CALDESC:Events for Phyl&#039;s Academy Preparatory School
REFRESH-INTERVAL;VALUE=DURATION:PT1H
X-Robots-Tag:noindex
X-PUBLISHED-TTL:PT1H
BEGIN:VTIMEZONE
TZID:America/New_York
BEGIN:DAYLIGHT
TZOFFSETFROM:-0500
TZOFFSETTO:-0400
TZNAME:EDT
DTSTART:20250309T070000
END:DAYLIGHT
BEGIN:STANDARD
TZOFFSETFROM:-0400
TZOFFSETTO:-0500
TZNAME:EST
DTSTART:20251102T060000
END:STANDARD
BEGIN:DAYLIGHT
TZOFFSETFROM:-0500
TZOFFSETTO:-0400
TZNAME:EDT
DTSTART:20260308T070000
END:DAYLIGHT
BEGIN:STANDARD
TZOFFSETFROM:-0400
TZOFFSETTO:-0500
TZNAME:EST
DTSTART:20261101T060000
END:STANDARD
BEGIN:DAYLIGHT
TZOFFSETFROM:-0500
TZOFFSETTO:-0400
TZNAME:EDT
DTSTART:20270314T070000
END:DAYLIGHT
BEGIN:STANDARD
TZOFFSETFROM:-0400
TZOFFSETTO:-0500
TZNAME:EST
DTSTART:20271107T060000
END:STANDARD
END:VTIMEZONE
BEGIN:VEVENT
DTSTART;VALUE=DATE:20260105
DTEND;VALUE=DATE:20260106
DTSTAMP:20260423T180828
CREATED:20251126T120146Z
LAST-MODIFIED:20251126T120146Z
UID:3021-1767571200-1767657599@phylsprep.com
SUMMARY:School Opening
DESCRIPTION:
URL:https://phylsprep.com/event/school-opening/
CATEGORIES:Elementary School,Preschool,School,Upper School
END:VEVENT
BEGIN:VEVENT
DTSTART;VALUE=DATE:20260206
DTEND;VALUE=DATE:20260207
DTSTAMP:20260423T180828
CREATED:20251126T120731Z
LAST-MODIFIED:20251126T120802Z
UID:3031-1770336000-1770422399@phylsprep.com
SUMMARY:End of Trimester 2 ( Preschool)
DESCRIPTION:
URL:https://phylsprep.com/event/end-of-trimester-2-preschool/
CATEGORIES:Preschool
END:VEVENT
BEGIN:VEVENT
DTSTART;VALUE=DATE:20260213
DTEND;VALUE=DATE:20260214
DTSTAMP:20260423T180828
CREATED:20251126T120914Z
LAST-MODIFIED:20251126T120914Z
UID:3033-1770940800-1771027199@phylsprep.com
SUMMARY:Valentines Dance
DESCRIPTION:
URL:https://phylsprep.com/event/valentines-dance/
CATEGORIES:Elementary School,Preschool,Upper School
END:VEVENT
BEGIN:VEVENT
DTSTART;VALUE=DATE:20260216
DTEND;VALUE=DATE:20260217
DTSTAMP:20260423T180828
CREATED:20251126T121001Z
LAST-MODIFIED:20251126T121001Z
UID:3035-1771200000-1771286399@phylsprep.com
SUMMARY:Presidents Day (School Closed)
DESCRIPTION:
URL:https://phylsprep.com/event/presidents-day-school-closed-2/
CATEGORIES:Elementary School,Preschool,Upper School
END:VEVENT
BEGIN:VEVENT
DTSTART;VALUE=DATE:20260219
DTEND;VALUE=DATE:20260221
DTSTAMP:20260423T180828
CREATED:20251126T121308Z
LAST-MODIFIED:20251126T121308Z
UID:3039-1771459200-1771631999@phylsprep.com
SUMMARY:Parent-Teacher Conference (Preschool)
DESCRIPTION:
URL:https://phylsprep.com/event/parent-teacher-conference-preschool-4/
CATEGORIES:Preschool
END:VEVENT
BEGIN:VEVENT
DTSTART;VALUE=DATE:20260226
DTEND;VALUE=DATE:20260227
DTSTAMP:20260423T180828
CREATED:20251126T121429Z
LAST-MODIFIED:20251126T121429Z
UID:3041-1772064000-1772150399@phylsprep.com
SUMMARY:Black Expo/Cultural Dress Down Day
DESCRIPTION:
URL:https://phylsprep.com/event/black-expo-cultural-dress-down-day/
CATEGORIES:Elementary School,Preschool,Upper School
END:VEVENT
BEGIN:VEVENT
DTSTART;TZID=America/New_York:20260327T080000
DTEND;TZID=America/New_York:20260327T170000
DTSTAMP:20260423T180828
CREATED:20260105T175511Z
LAST-MODIFIED:20260105T175511Z
UID:3096-1774598400-1774630800@phylsprep.com
SUMMARY:Easter Egg Hunt/Spring Fling
DESCRIPTION:
URL:https://phylsprep.com/event/easter-egg-hunt-spring-fling/
CATEGORIES:Preschool
END:VEVENT
BEGIN:VEVENT
DTSTART;TZID=America/New_York:20260410T080000
DTEND;TZID=America/New_York:20260410T170000
DTSTAMP:20260423T180828
CREATED:20260105T175610Z
LAST-MODIFIED:20260105T175610Z
UID:3098-1775808000-1775840400@phylsprep.com
SUMMARY:Sneaker Ball
DESCRIPTION:
URL:https://phylsprep.com/event/sneaker-ball/
CATEGORIES:Preschool
END:VEVENT
BEGIN:VEVENT
DTSTART;TZID=America/New_York:20260417T080000
DTEND;TZID=America/New_York:20260417T170000
DTSTAMP:20260423T180828
CREATED:20260105T172910Z
LAST-MODIFIED:20260105T180142Z
UID:3066-1776412800-1776445200@phylsprep.com
SUMMARY:Storybook Parade!
DESCRIPTION:
URL:https://phylsprep.com/event/storybook-parade-3/
CATEGORIES:Elementary School,Preschool,School,Upper School
END:VEVENT
BEGIN:VEVENT
DTSTART;TZID=America/New_York:20260515T080000
DTEND;TZID=America/New_York:20260515T170000
DTSTAMP:20260423T180828
CREATED:20260105T175647Z
LAST-MODIFIED:20260105T175647Z
UID:3100-1778832000-1778864400@phylsprep.com
SUMMARY:Preschool Fun Day!
DESCRIPTION:
URL:https://phylsprep.com/event/preschool-fun-day-3/
CATEGORIES:Preschool
END:VEVENT
BEGIN:VEVENT
DTSTART;VALUE=DATE:20260522
DTEND;VALUE=DATE:20260523
DTSTAMP:20260423T180828
CREATED:20260105T173417Z
LAST-MODIFIED:20260105T180324Z
UID:3078-1779408000-1779494399@phylsprep.com
SUMMARY:End of Year Class Party!
DESCRIPTION:
URL:https://phylsprep.com/event/end-of-year-class-party/
CATEGORIES:Elementary School,Preschool,School,Upper School
END:VEVENT
BEGIN:VEVENT
DTSTART;VALUE=DATE:20260527
DTEND;VALUE=DATE:20260528
DTSTAMP:20260423T180828
CREATED:20260105T175728Z
LAST-MODIFIED:20260105T175728Z
UID:3102-1779840000-1779926399@phylsprep.com
SUMMARY:Last Day of VPK
DESCRIPTION:
URL:https://phylsprep.com/event/last-day-of-vpk/
CATEGORIES:Preschool
END:VEVENT
BEGIN:VEVENT
DTSTART;VALUE=DATE:20260528
DTEND;VALUE=DATE:20260530
DTSTAMP:20260423T180828
CREATED:20260105T175815Z
LAST-MODIFIED:20260105T175815Z
UID:3104-1779926400-1780099199@phylsprep.com
SUMMARY:Parent-Teacher Conference (Preschool)
DESCRIPTION:
URL:https://phylsprep.com/event/parent-teacher-conference-preschool-5/
CATEGORIES:Preschool
END:VEVENT
BEGIN:VEVENT
DTSTART;VALUE=DATE:20260529
DTEND;VALUE=DATE:20260530
DTSTAMP:20260423T180828
CREATED:20260105T175845Z
LAST-MODIFIED:20260105T175845Z
UID:3106-1780012800-1780099199@phylsprep.com
SUMMARY:Last Day of Preschool
DESCRIPTION:
URL:https://phylsprep.com/event/last-day-of-preschool/
CATEGORIES:Preschool
END:VEVENT
END:VCALENDAR