BEGIN:VCALENDAR
VERSION:2.0
PRODID:-//Phyl&#039;s Academy Preparatory School - ECPv6.15.12.2//NONSGML v1.0//EN
CALSCALE:GREGORIAN
METHOD:PUBLISH
X-WR-CALNAME:Phyl&#039;s Academy Preparatory School
X-ORIGINAL-URL:https://phylsprep.com
X-WR-CALDESC:Events for Phyl&#039;s Academy Preparatory School
REFRESH-INTERVAL;VALUE=DURATION:PT1H
X-Robots-Tag:noindex
X-PUBLISHED-TTL:PT1H
BEGIN:VTIMEZONE
TZID:America/New_York
BEGIN:DAYLIGHT
TZOFFSETFROM:-0500
TZOFFSETTO:-0400
TZNAME:EDT
DTSTART:20230312T070000
END:DAYLIGHT
BEGIN:STANDARD
TZOFFSETFROM:-0400
TZOFFSETTO:-0500
TZNAME:EST
DTSTART:20231105T060000
END:STANDARD
BEGIN:DAYLIGHT
TZOFFSETFROM:-0500
TZOFFSETTO:-0400
TZNAME:EDT
DTSTART:20240310T070000
END:DAYLIGHT
BEGIN:STANDARD
TZOFFSETFROM:-0400
TZOFFSETTO:-0500
TZNAME:EST
DTSTART:20241103T060000
END:STANDARD
BEGIN:DAYLIGHT
TZOFFSETFROM:-0500
TZOFFSETTO:-0400
TZNAME:EDT
DTSTART:20250309T070000
END:DAYLIGHT
BEGIN:STANDARD
TZOFFSETFROM:-0400
TZOFFSETTO:-0500
TZNAME:EST
DTSTART:20251102T060000
END:STANDARD
END:VTIMEZONE
BEGIN:VEVENT
DTSTART;TZID=America/New_York:20240809T150000
DTEND;TZID=America/New_York:20240809T170000
DTSTAMP:20260423T091946
CREATED:20240723T133853Z
LAST-MODIFIED:20240723T133853Z
UID:2382-1723215600-1723222800@phylsprep.com
SUMMARY:Meet and Greet! (6-12TH)
DESCRIPTION:
URL:https://phylsprep.com/event/meet-and-greet-6-12th/
CATEGORIES:Upper School
ATTACH;FMTTYPE=image/jpeg:https://phylsprep.com/wp-content/uploads/2023/10/IMG_2026-scaled.jpg
END:VEVENT
BEGIN:VEVENT
DTSTART;TZID=America/New_York:20240809T170000
DTEND;TZID=America/New_York:20240809T190000
DTSTAMP:20260423T091946
CREATED:20240723T125417Z
LAST-MODIFIED:20240723T133025Z
UID:2361-1723222800-1723230000@phylsprep.com
SUMMARY:Preschool Meet and Greet!
DESCRIPTION:Join us at Phyls Academy Margate for our Preschool Meet and Great for the 24-25 School Year. (Toddlers/Preschool/Pre-K/VPK)
URL:https://phylsprep.com/event/preschool-meet-and-greet/
CATEGORIES:Preschool
ATTACH;FMTTYPE=image/jpeg:https://phylsprep.com/wp-content/uploads/2024/03/IMG_1156-scaled.jpeg
END:VEVENT
END:VCALENDAR