BEGIN:VCALENDAR
VERSION:2.0
PRODID:-//Phyl&#039;s Academy Preparatory School - ECPv6.15.12.2//NONSGML v1.0//EN
CALSCALE:GREGORIAN
METHOD:PUBLISH
X-WR-CALNAME:Phyl&#039;s Academy Preparatory School
X-ORIGINAL-URL:https://phylsprep.com
X-WR-CALDESC:Events for Phyl&#039;s Academy Preparatory School
REFRESH-INTERVAL;VALUE=DURATION:PT1H
X-Robots-Tag:noindex
X-PUBLISHED-TTL:PT1H
BEGIN:VTIMEZONE
TZID:America/New_York
BEGIN:DAYLIGHT
TZOFFSETFROM:-0500
TZOFFSETTO:-0400
TZNAME:EDT
DTSTART:20230312T070000
END:DAYLIGHT
BEGIN:STANDARD
TZOFFSETFROM:-0400
TZOFFSETTO:-0500
TZNAME:EST
DTSTART:20231105T060000
END:STANDARD
BEGIN:DAYLIGHT
TZOFFSETFROM:-0500
TZOFFSETTO:-0400
TZNAME:EDT
DTSTART:20240310T070000
END:DAYLIGHT
BEGIN:STANDARD
TZOFFSETFROM:-0400
TZOFFSETTO:-0500
TZNAME:EST
DTSTART:20241103T060000
END:STANDARD
BEGIN:DAYLIGHT
TZOFFSETFROM:-0500
TZOFFSETTO:-0400
TZNAME:EDT
DTSTART:20250309T070000
END:DAYLIGHT
BEGIN:STANDARD
TZOFFSETFROM:-0400
TZOFFSETTO:-0500
TZNAME:EST
DTSTART:20251102T060000
END:STANDARD
END:VTIMEZONE
BEGIN:VEVENT
DTSTART;TZID=America/New_York:20240808T150000
DTEND;TZID=America/New_York:20240808T170000
DTSTAMP:20260422T215202
CREATED:20240723T133412Z
LAST-MODIFIED:20240723T133412Z
UID:2378-1723129200-1723136400@phylsprep.com
SUMMARY:Meet and Greet! (K-1ST)
DESCRIPTION:
URL:https://phylsprep.com/event/meet-and-greet-k-1st/
CATEGORIES:Elementary School
ATTACH;FMTTYPE=image/jpeg:https://phylsprep.com/wp-content/uploads/2023/10/DSC_0081-scaled.jpg
END:VEVENT
BEGIN:VEVENT
DTSTART;TZID=America/New_York:20240808T170000
DTEND;TZID=America/New_York:20240808T190000
DTSTAMP:20260422T215202
CREATED:20240723T133553Z
LAST-MODIFIED:20240723T133608Z
UID:2380-1723136400-1723143600@phylsprep.com
SUMMARY:Meet and Greet! (2ND-5TH)
DESCRIPTION:
URL:https://phylsprep.com/event/meet-and-greet-2nd-5th/
CATEGORIES:Elementary School
END:VEVENT
END:VCALENDAR